BEGIN:VCALENDAR
VERSION:2.0
PRODID:-//PRESTELIGENCE//v1.15.0.40397//EN
METHOD:REQUEST
BEGIN:VEVENT
UID:AssignmentId100502@presteligence.com
SEQUENCE:1
DTSTAMP:20260420T152646
ORGANIZER;CN=Richey-Lambert:MAILTO:mng@presteligence.com
DTSTART:20250913T080000
DTEND:20250913T080000
LOCATION:205 2nd Ave E
Scobey, MT 59263
SUMMARY:Richey-Lambert vs Scobey
DESCRIPTION:
STATUS:
END:VEVENT
END:VCALENDAR
