BEGIN:VCALENDAR
VERSION:2.0
PRODID:-//PRESTELIGENCE//v1.15.0.40397//EN
METHOD:REQUEST
BEGIN:VEVENT
UID:AssignmentId100507@presteligence.com
SEQUENCE:1
DTSTAMP:20260420T152647
ORGANIZER;CN=Richey-Lambert:MAILTO:mng@presteligence.com
DTSTART:20251004T080000
DTEND:20251004T080000
LOCATION:Lambert, MT 59243
SUMMARY:Richey-Lambert vs R&L
DESCRIPTION:
STATUS:
END:VEVENT
END:VCALENDAR
