BEGIN:VCALENDAR
VERSION:2.0
PRODID:-//PRESTELIGENCE//v1.15.0.40397//EN
METHOD:REQUEST
BEGIN:VEVENT
UID:AssignmentId102242@presteligence.com
SEQUENCE:1
DTSTAMP:20260420T152713
ORGANIZER;CN=Westby-Grenora:MAILTO:mng@presteligence.com
DTSTART:20251013T180000
DTEND:20251013T180000
LOCATION:
SUMMARY:Westby-Grenora vs Ray
DESCRIPTION:
STATUS:
END:VEVENT
END:VCALENDAR
