BEGIN:VCALENDAR
VERSION:2.0
PRODID:-//PRESTELIGENCE//v1.15.0.40397//EN
METHOD:REQUEST
BEGIN:VEVENT
UID:AssignmentId103064@presteligence.com
SEQUENCE:1
DTSTAMP:20260420T145322
ORGANIZER;CN=Chester-Joplin-Inverness:MAILTO:mng@presteligence.com
DTSTART:20251030T000000
DTEND:20251030T000000
LOCATION:Great Falls
SUMMARY:Chester-Joplin-Inverness vs District Tournament
DESCRIPTION:
STATUS:
END:VEVENT
END:VCALENDAR
