BEGIN:VCALENDAR
VERSION:2.0
PRODID:-//PRESTELIGENCE//v1.15.0.40397//EN
METHOD:REQUEST
BEGIN:VEVENT
UID:AssignmentId103086@presteligence.com
SEQUENCE:1
DTSTAMP:20260420T145322
ORGANIZER;CN=Valier:MAILTO:mng@presteligence.com
DTSTART:20251106T120000
DTEND:20251106T120000
LOCATION:
SUMMARY:Valier vs Divisionals
DESCRIPTION:
STATUS:
END:VEVENT
END:VCALENDAR
