BEGIN:VCALENDAR
VERSION:2.0
PRODID:-//PRESTELIGENCE//v1.15.0.40397//EN
METHOD:REQUEST
BEGIN:VEVENT
UID:AssignmentId110872@presteligence.com
SEQUENCE:5
DTSTAMP:20260420T135243
ORGANIZER;CN=Culbertson:MAILTO:mng@presteligence.com
DTSTART:20260218T120000
DTEND:20260218T120000
LOCATION:1012 4th Ave SE
Sidney, MT 59270
SUMMARY:Culbertson vs Froid/Medicine Lake
DESCRIPTION:Quarterfinal of 2C District Tourney: #2 Culbertson vs #7 Froid/Medicine Lake
STATUS:
END:VEVENT
END:VCALENDAR
