BEGIN:VCALENDAR
VERSION:2.0
PRODID:-//PRESTELIGENCE//v1.15.0.40397//EN
METHOD:REQUEST
BEGIN:VEVENT
UID:AssignmentId99896@presteligence.com
SEQUENCE:1
DTSTAMP:20260420T214000
ORGANIZER;CN=Polson:MAILTO:mng@presteligence.com
DTSTART:20250830T000000
DTEND:20250830T000000
LOCATION:
SUMMARY:Polson vs Western A Tipoff
DESCRIPTION:
STATUS:
END:VEVENT
END:VCALENDAR
